BEGIN:VCALENDAR
VERSION:2.0
PRODID:-//KAIROS - ECPv6.15.11//NONSGML v1.0//EN
CALSCALE:GREGORIAN
METHOD:PUBLISH
X-ORIGINAL-URL:http://3.139.98.68
X-WR-CALDESC:Events for KAIROS
REFRESH-INTERVAL;VALUE=DURATION:PT1H
X-Robots-Tag:noindex
X-PUBLISHED-TTL:PT1H
BEGIN:VTIMEZONE
TZID:America/Chicago
BEGIN:DAYLIGHT
TZOFFSETFROM:-0600
TZOFFSETTO:-0500
TZNAME:CDT
DTSTART:20250309T080000
END:DAYLIGHT
BEGIN:STANDARD
TZOFFSETFROM:-0500
TZOFFSETTO:-0600
TZNAME:CST
DTSTART:20251102T070000
END:STANDARD
BEGIN:DAYLIGHT
TZOFFSETFROM:-0600
TZOFFSETTO:-0500
TZNAME:CDT
DTSTART:20260308T080000
END:DAYLIGHT
BEGIN:STANDARD
TZOFFSETFROM:-0500
TZOFFSETTO:-0600
TZNAME:CST
DTSTART:20261101T070000
END:STANDARD
BEGIN:DAYLIGHT
TZOFFSETFROM:-0600
TZOFFSETTO:-0500
TZNAME:CDT
DTSTART:20270314T080000
END:DAYLIGHT
BEGIN:STANDARD
TZOFFSETFROM:-0500
TZOFFSETTO:-0600
TZNAME:CST
DTSTART:20271107T070000
END:STANDARD
END:VTIMEZONE
BEGIN:VEVENT
DTSTART;VALUE=DATE:20260403
DTEND;VALUE=DATE:20260404
DTSTAMP:20260419T120228
CREATED:20260402T144211Z
LAST-MODIFIED:20260402T144211Z
UID:236-1775174400-1775260799@3.139.98.68
SUMMARY:No Kairos 4/3 - Break
DESCRIPTION:
URL:http://3.139.98.68/calendar/no-kairos-4-3-break/
END:VEVENT
BEGIN:VEVENT
DTSTART;VALUE=DATE:20260410
DTEND;VALUE=DATE:20260411
DTSTAMP:20260419T120228
CREATED:20260402T144231Z
LAST-MODIFIED:20260402T144231Z
UID:238-1775779200-1775865599@3.139.98.68
SUMMARY:No Kairos 4/10 - Break
DESCRIPTION:
URL:http://3.139.98.68/calendar/no-kairos-4-10-break/
END:VEVENT
BEGIN:VEVENT
DTSTART;TZID=America/Chicago:20260417T183000
DTEND;TZID=America/Chicago:20260417T210000
DTSTAMP:20260419T120228
CREATED:20260402T144429Z
LAST-MODIFIED:20260402T144429Z
UID:240-1776450600-1776459600@3.139.98.68
SUMMARY:Kairos 4/17
DESCRIPTION:Join us for a joint event with Global Gathering
URL:http://3.139.98.68/calendar/kairos-4-17/
LOCATION:Global Gathering\, 606 Arcadian Ave\, Waukesha\, WI\, 53186\, United States
END:VEVENT
BEGIN:VEVENT
DTSTART;TZID=America/Chicago:20260424T183000
DTEND;TZID=America/Chicago:20260424T210000
DTSTAMP:20260419T120228
CREATED:20260402T144458Z
LAST-MODIFIED:20260402T144458Z
UID:242-1777055400-1777064400@3.139.98.68
SUMMARY:Kairos 4/24
DESCRIPTION:TBD
URL:http://3.139.98.68/calendar/kairos-4-24/
END:VEVENT
END:VCALENDAR